BEGIN:VCALENDAR
VERSION:2.0
PRODID:-//Frédéric Demers - ECPv6.3.3//NONSGML v1.0//EN
CALSCALE:GREGORIAN
METHOD:PUBLISH
X-ORIGINAL-URL:https://fred-demers.com
X-WR-CALDESC:Events for Frédéric Demers
REFRESH-INTERVAL;VALUE=DURATION:PT1H
X-Robots-Tag:noindex
X-PUBLISHED-TTL:PT1H
BEGIN:VTIMEZONE
TZID:America/New_York
BEGIN:DAYLIGHT
TZOFFSETFROM:-0500
TZOFFSETTO:-0400
TZNAME:EDT
DTSTART:20260308T070000
END:DAYLIGHT
BEGIN:STANDARD
TZOFFSETFROM:-0400
TZOFFSETTO:-0500
TZNAME:EST
DTSTART:20261101T060000
END:STANDARD
END:VTIMEZONE
BEGIN:VEVENT
DTSTART;TZID=America/New_York:20260223T090000
DTEND;TZID=America/New_York:20260223T100000
DTSTAMP:20260423T070749
CREATED:20250622T014704Z
LAST-MODIFIED:20250622T014704Z
UID:10959-1771837200-1771840800@fred-demers.com
SUMMARY:FRED SOLO - Agora des arts - Rouyn
DESCRIPTION:
URL:https://fred-demers.com/evenement/fred-solo-agora-des-arts-rouyn/
LOCATION:Agora des arts – Rouyn\, 170\, avenue Murdoch\, Rouyn-Noranda\, Quebec\, J9X 1E4\, Canada
CATEGORIES:Jeunesse
ATTACH;FMTTYPE=image/png:https://fred-demers.com/wp-content/uploads/2019/02/Fredsolo_logo_RGB.png
END:VEVENT
BEGIN:VEVENT
DTSTART;TZID=America/New_York:20260223T130000
DTEND;TZID=America/New_York:20260223T140000
DTSTAMP:20260423T070749
CREATED:20250622T014827Z
LAST-MODIFIED:20250622T014827Z
UID:10962-1771851600-1771855200@fred-demers.com
SUMMARY:FRED SOLO - Agora des arts - Rouyn
DESCRIPTION:
URL:https://fred-demers.com/evenement/fred-solo-agora-des-arts-rouyn-2/
LOCATION:Agora des arts – Rouyn\, 170\, avenue Murdoch\, Rouyn-Noranda\, Quebec\, J9X 1E4\, Canada
CATEGORIES:Jeunesse
ATTACH;FMTTYPE=image/png:https://fred-demers.com/wp-content/uploads/2019/02/Fredsolo_logo_RGB.png
END:VEVENT
BEGIN:VEVENT
DTSTART;TZID=America/New_York:20260224T090000
DTEND;TZID=America/New_York:20260224T100000
DTSTAMP:20260423T070749
CREATED:20250622T015306Z
LAST-MODIFIED:20250622T015543Z
UID:10964-1771923600-1771927200@fred-demers.com
SUMMARY:FRED SOLO - Agora des arts - Rouyn
DESCRIPTION:
URL:https://fred-demers.com/evenement/fred-solo-agora-des-arts-rouyn-3/
LOCATION:Agora des arts – Rouyn\, 170\, avenue Murdoch\, Rouyn-Noranda\, Quebec\, J9X 1E4\, Canada
CATEGORIES:Jeunesse
ATTACH;FMTTYPE=image/png:https://fred-demers.com/wp-content/uploads/2019/02/Fredsolo_logo_RGB.png
END:VEVENT
BEGIN:VEVENT
DTSTART;TZID=America/New_York:20260224T130000
DTEND;TZID=America/New_York:20260224T140000
DTSTAMP:20260423T070749
CREATED:20250622T015340Z
LAST-MODIFIED:20250622T015340Z
UID:10966-1771938000-1771941600@fred-demers.com
SUMMARY:FRED SOLO - Agora des arts - Rouyn
DESCRIPTION:
URL:https://fred-demers.com/evenement/fred-solo-agora-des-arts-rouyn-4/
LOCATION:Agora des arts – Rouyn\, 170\, avenue Murdoch\, Rouyn-Noranda\, Quebec\, J9X 1E4\, Canada
CATEGORIES:Jeunesse
ATTACH;FMTTYPE=image/png:https://fred-demers.com/wp-content/uploads/2019/02/Fredsolo_logo_RGB.png
END:VEVENT
BEGIN:VEVENT
DTSTART;TZID=America/New_York:20260225T090000
DTEND;TZID=America/New_York:20260225T100000
DTSTAMP:20260423T070749
CREATED:20250622T020213Z
LAST-MODIFIED:20250622T020213Z
UID:10968-1772010000-1772013600@fred-demers.com
SUMMARY:FRED SOLO - Agora des arts - Rouyn
DESCRIPTION:
URL:https://fred-demers.com/evenement/fred-solo-agora-des-arts-rouyn-5/
LOCATION:Agora des arts – Rouyn\, 170\, avenue Murdoch\, Rouyn-Noranda\, Quebec\, J9X 1E4\, Canada
CATEGORIES:Jeunesse
ATTACH;FMTTYPE=image/png:https://fred-demers.com/wp-content/uploads/2019/02/Fredsolo_logo_RGB.png
END:VEVENT
BEGIN:VEVENT
DTSTART;TZID=America/New_York:20260301T150000
DTEND;TZID=America/New_York:20260301T160000
DTSTAMP:20260423T070749
CREATED:20250622T020605Z
LAST-MODIFIED:20250622T020657Z
UID:10970-1772377200-1772380800@fred-demers.com
SUMMARY:FRED SOLO - Centre culturel Stewart Hall de Pointe-Claire
DESCRIPTION:
URL:https://fred-demers.com/evenement/fred-solo-stewart-hall/
LOCATION:Stewart Hall\, 176 Chem. du Bord-du-Lac-Lakeshore\,\, Pointe-Claire\, Quebec\, H9S 4J7\, Canada
CATEGORIES:Jeunesse
ATTACH;FMTTYPE=image/png:https://fred-demers.com/wp-content/uploads/2019/02/Fredsolo_logo_RGB.png
END:VEVENT
BEGIN:VEVENT
DTSTART;TZID=America/New_York:20260412T150000
DTEND;TZID=America/New_York:20260412T160000
DTSTAMP:20260423T070749
CREATED:20250622T021102Z
LAST-MODIFIED:20250622T021102Z
UID:10973-1776006000-1776009600@fred-demers.com
SUMMARY:FRED SOLO - La Chapelle Spectacle - Lévis
DESCRIPTION:
URL:https://fred-demers.com/evenement/fred-solo-la-chapelle-spectacle-levis/
LOCATION:La Chapelle Spectacle – Lévis\, 620 Av. Plante\, Lévis\, Quebec\, G1M 3R5\, Canada
CATEGORIES:Jeunesse
ATTACH;FMTTYPE=image/png:https://fred-demers.com/wp-content/uploads/2019/02/Fredsolo_logo_RGB.png
END:VEVENT
BEGIN:VEVENT
DTSTART;TZID=America/New_York:20260413T093000
DTEND;TZID=America/New_York:20260413T103000
DTSTAMP:20260423T070749
CREATED:20250622T021230Z
LAST-MODIFIED:20250622T021230Z
UID:10976-1776072600-1776076200@fred-demers.com
SUMMARY:FRED SOLO - La Chapelle Spectacle - Lévis
DESCRIPTION:
URL:https://fred-demers.com/evenement/fred-solo-la-chapelle-spectacle-levis-2/
LOCATION:La Chapelle Spectacle – Lévis\, 620 Av. Plante\, Lévis\, Quebec\, G1M 3R5\, Canada
CATEGORIES:Jeunesse
ATTACH;FMTTYPE=image/png:https://fred-demers.com/wp-content/uploads/2019/02/Fredsolo_logo_RGB.png
END:VEVENT
BEGIN:VEVENT
DTSTART;TZID=America/New_York:20260413T133000
DTEND;TZID=America/New_York:20260413T143000
DTSTAMP:20260423T070749
CREATED:20250622T021309Z
LAST-MODIFIED:20250622T021309Z
UID:10978-1776087000-1776090600@fred-demers.com
SUMMARY:FRED SOLO - La Chapelle Spectacle - Lévis
DESCRIPTION:
URL:https://fred-demers.com/evenement/fred-solo-la-chapelle-spectacle-levis-3/
LOCATION:La Chapelle Spectacle – Lévis\, 620 Av. Plante\, Lévis\, Quebec\, G1M 3R5\, Canada
CATEGORIES:Jeunesse
ATTACH;FMTTYPE=image/png:https://fred-demers.com/wp-content/uploads/2019/02/Fredsolo_logo_RGB.png
END:VEVENT
END:VCALENDAR