BEGIN:VCALENDAR
VERSION:2.0
PRODID:-//Frédéric Demers - ECPv6.3.3//NONSGML v1.0//EN
CALSCALE:GREGORIAN
METHOD:PUBLISH
X-WR-CALNAME:Frédéric Demers
X-ORIGINAL-URL:https://fred-demers.com
X-WR-CALDESC:Events for Frédéric Demers
REFRESH-INTERVAL;VALUE=DURATION:PT1H
X-Robots-Tag:noindex
X-PUBLISHED-TTL:PT1H
BEGIN:VTIMEZONE
TZID:America/New_York
BEGIN:DAYLIGHT
TZOFFSETFROM:-0500
TZOFFSETTO:-0400
TZNAME:EDT
DTSTART:20170312T070000
END:DAYLIGHT
BEGIN:STANDARD
TZOFFSETFROM:-0400
TZOFFSETTO:-0500
TZNAME:EST
DTSTART:20171105T060000
END:STANDARD
BEGIN:DAYLIGHT
TZOFFSETFROM:-0500
TZOFFSETTO:-0400
TZNAME:EDT
DTSTART:20180311T070000
END:DAYLIGHT
BEGIN:STANDARD
TZOFFSETFROM:-0400
TZOFFSETTO:-0500
TZNAME:EST
DTSTART:20181104T060000
END:STANDARD
END:VTIMEZONE
BEGIN:VEVENT
DTSTART;TZID=America/New_York:20180804T160000
DTEND;TZID=America/New_York:20180804T180000
DTSTAMP:20260424T025650
CREATED:20180427T165926Z
LAST-MODIFIED:20180427T165926Z
UID:6296-1533398400-1533405600@fred-demers.com
SUMMARY:Trio Débonnaire à Vauvert sur le Lac-Saint-Jean
DESCRIPTION:
URL:https://fred-demers.com/evenement/parc-gouin-copy/
LOCATION:Vauvert sur le Lac-Saint-Jean\, 25 de la Chapelle\, Dolbeau Mistassini\, QC\, Canada
CATEGORIES:Musique de chambre
ATTACH;FMTTYPE=image/jpeg:https://fred-demers.com/wp-content/uploads/2014/01/2016-Debonnaire-Myriam-Boucher2-scaled.jpeg
END:VEVENT
BEGIN:VEVENT
DTSTART;TZID=America/New_York:20180625T190000
DTEND;TZID=America/New_York:20180625T210000
DTSTAMP:20260424T025650
CREATED:20180427T164355Z
LAST-MODIFIED:20180427T164355Z
UID:6293-1529953200-1529960400@fred-demers.com
SUMMARY:Trio Débonnaire au Parc Gouin
DESCRIPTION:
URL:https://fred-demers.com/evenement/parc-gouin/
LOCATION:Quebec
CATEGORIES:Musique de chambre
ATTACH;FMTTYPE=image/jpeg:https://fred-demers.com/wp-content/uploads/2014/01/2016-Debonnaire-Myriam-Boucher2-scaled.jpeg
END:VEVENT
BEGIN:VEVENT
DTSTART;TZID=America/New_York:20180526T140000
DTEND;TZID=America/New_York:20180526T150000
DTSTAMP:20260424T025650
CREATED:20180928T140056Z
LAST-MODIFIED:20180928T140056Z
UID:6440-1527343200-1527346800@fred-demers.com
SUMMARY:TNT – Trompette ‘N’ Tuba - Maison de la culture Blainville
DESCRIPTION:
URL:https://fred-demers.com/evenement/maison-de-la-culture-blainville/
LOCATION:Quebec
CATEGORIES:Jeunesse
ATTACH;FMTTYPE=image/jpeg:https://fred-demers.com/wp-content/uploads/2014/04/TNT_photo_Valerie_Mantha_duo.jpg
END:VEVENT
BEGIN:VEVENT
DTSTART;TZID=America/New_York:20180526T140000
DTEND;TZID=America/New_York:20180526T150000
DTSTAMP:20260424T025650
CREATED:20180427T163954Z
LAST-MODIFIED:20180427T163954Z
UID:6290-1527343200-1527346800@fred-demers.com
SUMMARY:TNT – Trompette ‘N’ Tuba - Palais Montcalm
DESCRIPTION:
URL:https://fred-demers.com/evenement/tnt-hotel-de-ville-repentigny-copy-copy-copy-copy-copy-copy-copy-copy-2-copy/
LOCATION:Quebec
CATEGORIES:Jeunesse
ATTACH;FMTTYPE=image/jpeg:https://fred-demers.com/wp-content/uploads/2014/04/TNT_photo_Valerie_Mantha_duo.jpg
END:VEVENT
BEGIN:VEVENT
DTSTART;TZID=America/New_York:20180520T143000
DTEND;TZID=America/New_York:20180520T153000
DTSTAMP:20260424T025650
CREATED:20180330T130324Z
LAST-MODIFIED:20180330T130324Z
UID:6263-1526826600-1526830200@fred-demers.com
SUMMARY:Les 7 trompettes de Fred Piston - Piopolis
DESCRIPTION:
URL:https://fred-demers.com/evenement/7-trompettes-de-fred-piston-piopolis/
LOCATION:Festival St-Zénon De-Piopolis\, Piopolis\, Piopolis\, G0Y 1H0\, Canada
CATEGORIES:Jeunesse
ATTACH;FMTTYPE=image/jpeg:https://fred-demers.com/wp-content/uploads/2014/10/Fred_piston.jpg
END:VEVENT
BEGIN:VEVENT
DTSTART;TZID=America/New_York:20180429T110000
DTEND;TZID=America/New_York:20180429T120000
DTSTAMP:20260424T025650
CREATED:20180221T031406Z
LAST-MODIFIED:20180221T031406Z
UID:6218-1524999600-1525003200@fred-demers.com
SUMMARY:TNT – Trompette ‘N’ Tuba - salle Pauline-Martel\, Cowansville
DESCRIPTION:
URL:https://fred-demers.com/evenement/tnt-hotel-de-ville-repentigny-copy-copy-copy-copy-copy-copy-copy-copy-2/
LOCATION:Quebec
CATEGORIES:Jeunesse
ATTACH;FMTTYPE=image/jpeg:https://fred-demers.com/wp-content/uploads/2014/04/TNT_photo_Valerie_Mantha_duo.jpg
END:VEVENT
BEGIN:VEVENT
DTSTART;TZID=America/New_York:20180422T133000
DTEND;TZID=America/New_York:20180422T143000
DTSTAMP:20260424T025650
CREATED:20180221T030917Z
LAST-MODIFIED:20180221T030917Z
UID:6216-1524403800-1524407400@fred-demers.com
SUMMARY:Musée des beaux-arts de Montréal - concert/atelier
DESCRIPTION:
URL:https://fred-demers.com/evenement/tnt-hotel-de-ville-repentigny-copy-copy-copy-copy-copy-copy-copy-copy-copy/
LOCATION:Quebec
CATEGORIES:Jeunesse
ATTACH;FMTTYPE=image/jpeg:https://fred-demers.com/wp-content/uploads/2014/01/romance.jpg
END:VEVENT
BEGIN:VEVENT
DTSTART;TZID=America/New_York:20180413T183000
DTEND;TZID=America/New_York:20180413T230000
DTSTAMP:20260424T025650
CREATED:20180314T014451Z
LAST-MODIFIED:20180314T014451Z
UID:6238-1523644200-1523660400@fred-demers.com
SUMMARY:Porte-Parole du programme Formation intensive Musicale
DESCRIPTION:
URL:https://fred-demers.com/evenement/porte-parole-programme-formation-intensive-musicale/
LOCATION:centre culturel et communautaire Thérèse de Blainville\, 120 Boulevard du Séminaire\, Ste-Thérêse\, qc\, Canada
ATTACH;FMTTYPE=image/jpeg:https://fred-demers.com/wp-content/uploads/2018/03/Porte-parole-FMI.jpg
END:VEVENT
BEGIN:VEVENT
DTSTART;TZID=America/New_York:20180408T140000
DTEND;TZID=America/New_York:20180408T150000
DTSTAMP:20260424T025650
CREATED:20180221T025259Z
LAST-MODIFIED:20180221T025259Z
UID:6199-1523196000-1523199600@fred-demers.com
SUMMARY:TNT – Trompette ‘N’ Tuba - maison de la culture Marie-Uguay
DESCRIPTION:
URL:https://fred-demers.com/evenement/tnt-hotel-de-ville-repentigny-copy-copy-copy-copy-copy-copy-copy/
LOCATION:Quebec
CATEGORIES:Jeunesse
ATTACH;FMTTYPE=image/jpeg:https://fred-demers.com/wp-content/uploads/2014/04/TNT_photo_Valerie_Mantha_duo.jpg
END:VEVENT
BEGIN:VEVENT
DTSTART;TZID=America/New_York:20180407T200000
DTEND;TZID=America/New_York:20180407T220000
DTSTAMP:20260424T025650
CREATED:20180314T013840Z
LAST-MODIFIED:20180314T013840Z
UID:6236-1523131200-1523138400@fred-demers.com
SUMMARY:Lotus Lives
DESCRIPTION:
URL:https://fred-demers.com/evenement/lotus-lives-copy/
LOCATION:GESU\, 1200 Rue de Bleury\, Montreal\, QC\, Canada
CATEGORIES:Musique de chambre
ATTACH;FMTTYPE=image/jpeg:https://fred-demers.com/wp-content/uploads/2018/03/Lotus.jpg
END:VEVENT
BEGIN:VEVENT
DTSTART;TZID=America/New_York:20180406T200000
DTEND;TZID=America/New_York:20180406T220000
DTSTAMP:20260424T025650
CREATED:20180314T013553Z
LAST-MODIFIED:20180314T013553Z
UID:6232-1523044800-1523052000@fred-demers.com
SUMMARY:Lotus Lives
DESCRIPTION:
URL:https://fred-demers.com/evenement/lotus-lives/
LOCATION:GESU\, 1200 Rue de Bleury\, Montreal\, QC\, Canada
CATEGORIES:Musique de chambre
ATTACH;FMTTYPE=image/jpeg:https://fred-demers.com/wp-content/uploads/2018/03/Lotus.jpg
END:VEVENT
BEGIN:VEVENT
DTSTART;TZID=America/New_York:20180325T150000
DTEND;TZID=America/New_York:20180325T163000
DTSTAMP:20260424T025650
CREATED:20180314T012909Z
LAST-MODIFIED:20180314T012909Z
UID:6228-1521990000-1521995400@fred-demers.com
SUMMARY:Trompette et orgue
DESCRIPTION:
URL:https://fred-demers.com/evenement/trompette-et-orgue/
LOCATION:Saints-Anges de Lachine\, 1400 Boul. St-Joseph\, Lachine\, QC\, H8S 2M8\, Canada
CATEGORIES:Musique de chambre
ATTACH;FMTTYPE=image/jpeg:https://fred-demers.com/wp-content/uploads/2018/03/CrozierDemers_600.jpg
END:VEVENT
BEGIN:VEVENT
DTSTART;TZID=America/New_York:20180317T150000
DTEND;TZID=America/New_York:20180317T160000
DTSTAMP:20260424T025650
CREATED:20180221T030403Z
LAST-MODIFIED:20180221T030403Z
UID:6211-1521298800-1521302400@fred-demers.com
SUMMARY:Les 7 trompettes de Fred Piston - Maison de la culture Villebon
DESCRIPTION:
URL:https://fred-demers.com/evenement/les-7-trompettes-de-fred-piston-maison-des-jmc2-copy-copy-copy/
LOCATION:Quebec
CATEGORIES:Jeunesse
ATTACH;FMTTYPE=image/jpeg:https://fred-demers.com/wp-content/uploads/2014/10/Fred_piston.jpg
END:VEVENT
BEGIN:VEVENT
DTSTART;TZID=America/New_York:20180309T133000
DTEND;TZID=America/New_York:20180309T143000
DTSTAMP:20260424T025650
CREATED:20180221T030307Z
LAST-MODIFIED:20180221T030307Z
UID:6209-1520602200-1520605800@fred-demers.com
SUMMARY:Les 7 trompettes de Fred Piston - Maison de la culture Ahuntsic-Cartierville
DESCRIPTION:
URL:https://fred-demers.com/evenement/les-7-trompettes-de-fred-piston-maison-des-jmc2-copy-copy/
LOCATION:Quebec
CATEGORIES:Jeunesse
ATTACH;FMTTYPE=image/jpeg:https://fred-demers.com/wp-content/uploads/2014/10/Fred_piston.jpg
END:VEVENT
BEGIN:VEVENT
DTSTART;TZID=America/New_York:20180308T140000
DTEND;TZID=America/New_York:20180308T150000
DTSTAMP:20260424T025650
CREATED:20180221T025838Z
LAST-MODIFIED:20180221T025838Z
UID:6204-1520517600-1520521200@fred-demers.com
SUMMARY:Pierre et le loup - Centre communautaire Elgar
DESCRIPTION:
URL:https://fred-demers.com/evenement/pierre-loup-notre-dame-de-grace-14h-copy-copy/
LOCATION:Quebec
CATEGORIES:Jeunesse
ATTACH;FMTTYPE=image/jpeg:https://fred-demers.com/wp-content/uploads/2015/09/image_nouveau_concert.jpg
END:VEVENT
BEGIN:VEVENT
DTSTART;TZID=America/New_York:20180307T110000
DTEND;TZID=America/New_York:20180307T120000
DTSTAMP:20260424T025650
CREATED:20180221T024903Z
LAST-MODIFIED:20180221T024903Z
UID:6196-1520420400-1520424000@fred-demers.com
SUMMARY:TNT – Trompette ‘N’ Tuba - Centre culturel Peter B. Yeomans\, DORVAL
DESCRIPTION:
URL:https://fred-demers.com/evenement/tnt-hotel-de-ville-repentigny-copy-copy-copy-copy-copy-copy/
LOCATION:Quebec
CATEGORIES:Jeunesse
ATTACH;FMTTYPE=image/jpeg:https://fred-demers.com/wp-content/uploads/2014/04/TNT_photo_Valerie_Mantha_duo.jpg
END:VEVENT
BEGIN:VEVENT
DTSTART;TZID=America/New_York:20180306T140000
DTEND;TZID=America/New_York:20180306T150000
DTSTAMP:20260424T025650
CREATED:20180221T025951Z
LAST-MODIFIED:20180221T025951Z
UID:6206-1520344800-1520348400@fred-demers.com
SUMMARY:Les 7 trompettes de Fred Piston - Maison de la culture Pointe-aux-Trembles
DESCRIPTION:
URL:https://fred-demers.com/evenement/les-7-trompettes-de-fred-piston-maison-des-jmc2-copy/
LOCATION:Quebec
CATEGORIES:Jeunesse
ATTACH;FMTTYPE=image/jpeg:https://fred-demers.com/wp-content/uploads/2014/10/Fred_piston.jpg
END:VEVENT
BEGIN:VEVENT
DTSTART;TZID=America/New_York:20180305T110000
DTEND;TZID=America/New_York:20180305T120000
DTSTAMP:20260424T025650
CREATED:20180221T025503Z
LAST-MODIFIED:20180221T025503Z
UID:6201-1520247600-1520251200@fred-demers.com
SUMMARY:Pierre et le loup - École secondaire Anjou
DESCRIPTION:
URL:https://fred-demers.com/evenement/pierre-loup-notre-dame-de-grace-14h-copy/
LOCATION:Quebec
CATEGORIES:Jeunesse
ATTACH;FMTTYPE=image/jpeg:https://fred-demers.com/wp-content/uploads/2015/09/image_nouveau_concert.jpg
END:VEVENT
BEGIN:VEVENT
DTSTART;TZID=America/New_York:20180225T133000
DTEND;TZID=America/New_York:20180225T143000
DTSTAMP:20260424T025650
CREATED:20180221T030558Z
LAST-MODIFIED:20180221T030558Z
UID:6213-1519565400-1519569000@fred-demers.com
SUMMARY:Musée des beaux-arts de Montréal - concert/atelier
DESCRIPTION:
URL:https://fred-demers.com/evenement/tnt-hotel-de-ville-repentigny-copy-copy-copy-copy-copy-copy-copy-copy/
LOCATION:Quebec
CATEGORIES:Jeunesse
ATTACH;FMTTYPE=image/jpeg:https://fred-demers.com/wp-content/uploads/2014/01/romance.jpg
END:VEVENT
BEGIN:VEVENT
DTSTART;TZID=America/New_York:20180224T100000
DTEND;TZID=America/New_York:20180224T110000
DTSTAMP:20260424T025650
CREATED:20180221T024443Z
LAST-MODIFIED:20180221T024443Z
UID:6193-1519466400-1519470000@fred-demers.com
SUMMARY:TNT – Trompette ‘N’ Tuba - Place des Citoyens à Ste-Adèle
DESCRIPTION:
URL:https://fred-demers.com/evenement/tnt-hotel-de-ville-repentigny-copy-copy-copy-copy-copy/
LOCATION:Quebec
CATEGORIES:Jeunesse
ATTACH;FMTTYPE=image/jpeg:https://fred-demers.com/wp-content/uploads/2014/04/TNT_photo_Valerie_Mantha_duo.jpg
END:VEVENT
BEGIN:VEVENT
DTSTART;TZID=America/New_York:20180210T140000
DTEND;TZID=America/New_York:20180210T150000
DTSTAMP:20260424T025650
CREATED:20171003T021312Z
LAST-MODIFIED:20171003T021312Z
UID:6163-1518271200-1518274800@fred-demers.com
SUMMARY:TNT – Trompette ‘N’ Tuba - Maison de la culture Dorval
DESCRIPTION:
URL:https://fred-demers.com/evenement/tnt-hotel-de-ville-repentigny-copy-copy-copy-copy/
LOCATION:Bibliothèque de Dorval\, 1401 Chemin Bord-du-Lac\, Dorval\, Canada
CATEGORIES:Jeunesse
ATTACH;FMTTYPE=image/jpeg:https://fred-demers.com/wp-content/uploads/2014/04/TNT_photo_Valerie_Mantha_duo.jpg
END:VEVENT
BEGIN:VEVENT
DTSTART;TZID=America/New_York:20171212T093000
DTEND;TZID=America/New_York:20171212T143000
DTSTAMP:20260424T025650
CREATED:20171003T020800Z
LAST-MODIFIED:20171003T020800Z
UID:6159-1513071000-1513089000@fred-demers.com
SUMMARY:TNT – Trompette ‘N’ Tuba - Maison de la culture St-Léonard
DESCRIPTION:
URL:https://fred-demers.com/evenement/tnt-hotel-de-ville-repentigny-copy-copy-copy/
LOCATION:Quebec
CATEGORIES:Jeunesse
ATTACH;FMTTYPE=image/jpeg:https://fred-demers.com/wp-content/uploads/2014/04/TNT_photo_Valerie_Mantha_duo.jpg
END:VEVENT
BEGIN:VEVENT
DTSTART;TZID=America/New_York:20171210T140000
DTEND;TZID=America/New_York:20171210T150000
DTSTAMP:20260424T025650
CREATED:20171003T015711Z
LAST-MODIFIED:20171003T015711Z
UID:6155-1512914400-1512918000@fred-demers.com
SUMMARY:Fred Piston symphonise avec 7 trompettes
DESCRIPTION:
URL:https://fred-demers.com/evenement/fred-piston-symphonise-avec-7-trompettes-osq4-copy/
LOCATION:Salle Maurice O’bready\, 2500 Boulevard de l'Université\, Sherbrooke\,\, Sherbrooke\, Canada
CATEGORIES:Jeunesse
ATTACH;FMTTYPE=image/jpeg:https://fred-demers.com/wp-content/uploads/2014/01/Piston_enfants_latin.jpg
END:VEVENT
BEGIN:VEVENT
DTSTART;TZID=America/New_York:20171119T140000
DTEND;TZID=America/New_York:20171119T153000
DTSTAMP:20260424T025650
CREATED:20171003T015040Z
LAST-MODIFIED:20171003T015040Z
UID:6151-1511100000-1511105400@fred-demers.com
SUMMARY:Trio Débonnaire à Classival
DESCRIPTION:
URL:https://fred-demers.com/evenement/la-viree-classique-de-losm-avec-le-trio-debonnaire-copy/
LOCATION:Classival\, 317 rue Victoria\,\, Valleyfield\, qc\, Canada
CATEGORIES:Musique de chambre
ATTACH;FMTTYPE=image/jpeg:https://fred-demers.com/wp-content/uploads/2014/01/2016-Debonnaire-Myriam-Boucher2-scaled.jpeg
END:VEVENT
BEGIN:VEVENT
DTSTART;TZID=America/New_York:20171029T140000
DTEND;TZID=America/New_York:20171029T150000
DTSTAMP:20260424T025650
CREATED:20171003T014707Z
LAST-MODIFIED:20171003T014707Z
UID:6147-1509285600-1509289200@fred-demers.com
SUMMARY:TNT – Trompette ‘N’ Tuba - Maison de la culture Mercier
DESCRIPTION:
URL:https://fred-demers.com/evenement/tnt-hotel-de-ville-repentigny-copy-copy/
LOCATION:Maison de la culture Mercier\, 8105 Rue Hochelaga\, montreal\, Canada
CATEGORIES:Jeunesse
ATTACH;FMTTYPE=image/jpeg:https://fred-demers.com/wp-content/uploads/2014/04/TNT_photo_Valerie_Mantha_duo.jpg
END:VEVENT
BEGIN:VEVENT
DTSTART;TZID=America/New_York:20171021T150000
DTEND;TZID=America/New_York:20171021T160000
DTSTAMP:20260424T025650
CREATED:20171003T014017Z
LAST-MODIFIED:20171003T014017Z
UID:6143-1508598000-1508601600@fred-demers.com
SUMMARY:TNT – Trompette ‘N’ Tuba - Maison de la culture Villebon
DESCRIPTION:
URL:https://fred-demers.com/evenement/tnt-hotel-de-ville-repentigny-copy/
LOCATION:Maison culture Villebon\, 630 rue Richelieu\, beloeil\, québec\, Canada
CATEGORIES:Jeunesse
ATTACH;FMTTYPE=image/jpeg:https://fred-demers.com/wp-content/uploads/2014/04/TNT_photo_Valerie_Mantha_duo.jpg
END:VEVENT
BEGIN:VEVENT
DTSTART;VALUE=DATE:20170705
DTEND;VALUE=DATE:20170821
DTSTAMP:20260424T025650
CREATED:20170207T165930Z
LAST-MODIFIED:20170207T165930Z
UID:6080-1499212800-1503273599@fred-demers.com
SUMMARY:Mary Poppins à Québec - 5 juillet au 20 août 2017
DESCRIPTION:
URL:https://fred-demers.com/evenement/mary-poppins-a-quebec-5-juillet-au-15-aout/
LOCATION:Quebec
CATEGORIES:Jeunesse,Musique de chambre,Soliste
ATTACH;FMTTYPE=image/jpeg:https://fred-demers.com/wp-content/uploads/2017/02/poppins_a-quebec.jpg
END:VEVENT
BEGIN:VEVENT
DTSTART;TZID=America/New_York:20170608T193000
DTEND;TZID=America/New_York:20170608T220000
DTSTAMP:20260424T025650
CREATED:20170207T165221Z
LAST-MODIFIED:20170207T165221Z
UID:6077-1496950200-1496959200@fred-demers.com
SUMMARY:Soliste avec Richard Stoelzel et la Polyvalente Ste-Thérèse
DESCRIPTION:
URL:https://fred-demers.com/evenement/soliste-avec-richard-stoelzel-et-la-polyvalente-ste-therese/
LOCATION:Quebec
CATEGORIES:Jeunesse
ATTACH;FMTTYPE=image/jpeg:https://fred-demers.com/wp-content/uploads/2017/02/Yamaha-soliste.jpg
END:VEVENT
BEGIN:VEVENT
DTSTART;TZID=America/New_York:20170603T193000
DTEND;TZID=America/New_York:20170603T220000
DTSTAMP:20260424T025650
CREATED:20170207T164825Z
LAST-MODIFIED:20170207T164825Z
UID:6071-1496518200-1496527200@fred-demers.com
SUMMARY:Soliste avec l'École secondaire Saint-Edmond
DESCRIPTION:
URL:https://fred-demers.com/evenement/soliste-lecole-secondaire-saint-edmond/
LOCATION:Salle Pierre-Mercure
CATEGORIES:Jeunesse
ATTACH;FMTTYPE=image/jpeg:https://fred-demers.com/wp-content/uploads/2017/02/Yamaha-soliste.jpg
END:VEVENT
BEGIN:VEVENT
DTSTART;TZID=America/New_York:20170528T113000
DTEND;TZID=America/New_York:20170528T123000
DTSTAMP:20260424T025650
CREATED:20160825T211957Z
LAST-MODIFIED:20160825T211957Z
UID:5988-1495971000-1495974600@fred-demers.com
SUMMARY:Les 7 trompettes de Fred Piston
DESCRIPTION:
URL:https://fred-demers.com/evenement/les-7-trompettes-de-fred-piston-maison-des-jmc2/
LOCATION:Maison des JMC\, 305 Avenue du Mont-Royal E\, monteral
CATEGORIES:Jeunesse
ATTACH;FMTTYPE=image/jpeg:https://fred-demers.com/wp-content/uploads/2014/10/Fred_piston.jpg
END:VEVENT
END:VCALENDAR