BEGIN:VCALENDAR
VERSION:2.0
PRODID:-//Frédéric Demers - ECPv6.3.3//NONSGML v1.0//EN
CALSCALE:GREGORIAN
METHOD:PUBLISH
X-WR-CALNAME:Frédéric Demers
X-ORIGINAL-URL:https://fred-demers.com
X-WR-CALDESC:Events for Frédéric Demers
REFRESH-INTERVAL;VALUE=DURATION:PT1H
X-Robots-Tag:noindex
X-PUBLISHED-TTL:PT1H
BEGIN:VTIMEZONE
TZID:America/New_York
BEGIN:DAYLIGHT
TZOFFSETFROM:-0500
TZOFFSETTO:-0400
TZNAME:EDT
DTSTART:20160313T070000
END:DAYLIGHT
BEGIN:STANDARD
TZOFFSETFROM:-0400
TZOFFSETTO:-0500
TZNAME:EST
DTSTART:20161106T060000
END:STANDARD
BEGIN:DAYLIGHT
TZOFFSETFROM:-0500
TZOFFSETTO:-0400
TZNAME:EDT
DTSTART:20170312T070000
END:DAYLIGHT
BEGIN:STANDARD
TZOFFSETFROM:-0400
TZOFFSETTO:-0500
TZNAME:EST
DTSTART:20171105T060000
END:STANDARD
END:VTIMEZONE
BEGIN:VEVENT
DTSTART;TZID=America/New_York:20171029T140000
DTEND;TZID=America/New_York:20171029T150000
DTSTAMP:20260424T034434
CREATED:20171003T014707Z
LAST-MODIFIED:20171003T014707Z
UID:6147-1509285600-1509289200@fred-demers.com
SUMMARY:TNT – Trompette ‘N’ Tuba - Maison de la culture Mercier
DESCRIPTION:
URL:https://fred-demers.com/evenement/tnt-hotel-de-ville-repentigny-copy-copy/
LOCATION:Maison de la culture Mercier\, 8105 Rue Hochelaga\, montreal\, Canada
CATEGORIES:Jeunesse
ATTACH;FMTTYPE=image/jpeg:https://fred-demers.com/wp-content/uploads/2014/04/TNT_photo_Valerie_Mantha_duo.jpg
END:VEVENT
BEGIN:VEVENT
DTSTART;TZID=America/New_York:20171021T150000
DTEND;TZID=America/New_York:20171021T160000
DTSTAMP:20260424T034434
CREATED:20171003T014017Z
LAST-MODIFIED:20171003T014017Z
UID:6143-1508598000-1508601600@fred-demers.com
SUMMARY:TNT – Trompette ‘N’ Tuba - Maison de la culture Villebon
DESCRIPTION:
URL:https://fred-demers.com/evenement/tnt-hotel-de-ville-repentigny-copy/
LOCATION:Maison culture Villebon\, 630 rue Richelieu\, beloeil\, québec\, Canada
CATEGORIES:Jeunesse
ATTACH;FMTTYPE=image/jpeg:https://fred-demers.com/wp-content/uploads/2014/04/TNT_photo_Valerie_Mantha_duo.jpg
END:VEVENT
BEGIN:VEVENT
DTSTART;VALUE=DATE:20170705
DTEND;VALUE=DATE:20170821
DTSTAMP:20260424T034434
CREATED:20170207T165930Z
LAST-MODIFIED:20170207T165930Z
UID:6080-1499212800-1503273599@fred-demers.com
SUMMARY:Mary Poppins à Québec - 5 juillet au 20 août 2017
DESCRIPTION:
URL:https://fred-demers.com/evenement/mary-poppins-a-quebec-5-juillet-au-15-aout/
CATEGORIES:Jeunesse,Musique de chambre,Soliste
ATTACH;FMTTYPE=image/jpeg:https://fred-demers.com/wp-content/uploads/2017/02/poppins_a-quebec.jpg
END:VEVENT
BEGIN:VEVENT
DTSTART;TZID=America/New_York:20170608T193000
DTEND;TZID=America/New_York:20170608T220000
DTSTAMP:20260424T034434
CREATED:20170207T165221Z
LAST-MODIFIED:20170207T165221Z
UID:6077-1496950200-1496959200@fred-demers.com
SUMMARY:Soliste avec Richard Stoelzel et la Polyvalente Ste-Thérèse
DESCRIPTION:
URL:https://fred-demers.com/evenement/soliste-avec-richard-stoelzel-et-la-polyvalente-ste-therese/
CATEGORIES:Jeunesse
ATTACH;FMTTYPE=image/jpeg:https://fred-demers.com/wp-content/uploads/2017/02/Yamaha-soliste.jpg
END:VEVENT
BEGIN:VEVENT
DTSTART;TZID=America/New_York:20170603T193000
DTEND;TZID=America/New_York:20170603T220000
DTSTAMP:20260424T034434
CREATED:20170207T164825Z
LAST-MODIFIED:20170207T164825Z
UID:6071-1496518200-1496527200@fred-demers.com
SUMMARY:Soliste avec l'École secondaire Saint-Edmond
DESCRIPTION:
URL:https://fred-demers.com/evenement/soliste-lecole-secondaire-saint-edmond/
LOCATION:Salle Pierre-Mercure
CATEGORIES:Jeunesse
ATTACH;FMTTYPE=image/jpeg:https://fred-demers.com/wp-content/uploads/2017/02/Yamaha-soliste.jpg
END:VEVENT
BEGIN:VEVENT
DTSTART;TZID=America/New_York:20170528T113000
DTEND;TZID=America/New_York:20170528T123000
DTSTAMP:20260424T034434
CREATED:20160825T211957Z
LAST-MODIFIED:20160825T211957Z
UID:5988-1495971000-1495974600@fred-demers.com
SUMMARY:Les 7 trompettes de Fred Piston
DESCRIPTION:
URL:https://fred-demers.com/evenement/les-7-trompettes-de-fred-piston-maison-des-jmc2/
LOCATION:Maison des JMC\, 305 Avenue du Mont-Royal E\, monteral
CATEGORIES:Jeunesse
ATTACH;FMTTYPE=image/jpeg:https://fred-demers.com/wp-content/uploads/2014/10/Fred_piston.jpg
END:VEVENT
BEGIN:VEVENT
DTSTART;TZID=America/New_York:20170528T100000
DTEND;TZID=America/New_York:20170528T110000
DTSTAMP:20260424T034434
CREATED:20160825T211732Z
LAST-MODIFIED:20160825T211732Z
UID:5985-1495965600-1495969200@fred-demers.com
SUMMARY:Les 7 trompettes de Fred Piston
DESCRIPTION:
URL:https://fred-demers.com/evenement/les-7-trompettes-de-fred-piston-maison-des-jmc/
LOCATION:Maison des JMC\, 305 Avenue du Mont-Royal E\, monteral
CATEGORIES:Jeunesse
ATTACH;FMTTYPE=image/jpeg:https://fred-demers.com/wp-content/uploads/2014/10/Fred_piston.jpg
END:VEVENT
BEGIN:VEVENT
DTSTART;TZID=America/New_York:20170429T200000
DTEND;TZID=America/New_York:20170429T220000
DTSTAMP:20260424T034434
CREATED:20170207T165126Z
LAST-MODIFIED:20170207T165126Z
UID:6075-1493496000-1493503200@fred-demers.com
SUMMARY:Soliste avec l'Harmonie St-Bruno
DESCRIPTION:
URL:https://fred-demers.com/evenement/soliste-harmonie-st-bruno/
CATEGORIES:Soliste
ATTACH;FMTTYPE=image/jpeg:https://fred-demers.com/wp-content/uploads/2017/02/Yamaha-soliste.jpg
END:VEVENT
BEGIN:VEVENT
DTSTART;TZID=America/New_York:20170423T110000
DTEND;TZID=America/New_York:20170423T120000
DTSTAMP:20260424T034434
CREATED:20170207T163825Z
LAST-MODIFIED:20170207T163825Z
UID:6067-1492945200-1492948800@fred-demers.com
SUMMARY:TNT – Trompette ‘N’ Tuba - Repentigny
DESCRIPTION:
URL:https://fred-demers.com/evenement/tnt-hotel-de-ville-repentigny/
LOCATION:Hôtel de ville de Repentigny
CATEGORIES:Jeunesse
ATTACH;FMTTYPE=image/jpeg:https://fred-demers.com/wp-content/uploads/2014/04/TNT_photo_Valerie_Mantha_duo.jpg
END:VEVENT
BEGIN:VEVENT
DTSTART;TZID=America/New_York:20170312T133000
DTEND;TZID=America/New_York:20170312T143000
DTSTAMP:20260424T034434
CREATED:20170207T171059Z
LAST-MODIFIED:20170207T171059Z
UID:6089-1489325400-1489329000@fred-demers.com
SUMMARY:Symphonies portuaires avec M6
DESCRIPTION:
URL:https://fred-demers.com/evenement/symphonies-portuaires-m6-12-mars/
CATEGORIES:Jeunesse,Musique de chambre,Soliste
ATTACH;FMTTYPE=image/jpeg:https://fred-demers.com/wp-content/uploads/2017/02/symphonies-portuaires-pointe-a-calliere.jpg
END:VEVENT
BEGIN:VEVENT
DTSTART;TZID=America/New_York:20170309T140000
DTEND;TZID=America/New_York:20170309T150000
DTSTAMP:20260424T034434
CREATED:20160825T211641Z
LAST-MODIFIED:20160825T211641Z
UID:5983-1489068000-1489071600@fred-demers.com
SUMMARY:Les 7 trompettes de Fred Piston
DESCRIPTION:
URL:https://fred-demers.com/evenement/les-7-trompettes-de-fred-piston-pierrefonds/
LOCATION:Centre communautaire de l’Est\, 9665\, boulevard Gouin Ouest\, pierrefonds
CATEGORIES:Jeunesse
ATTACH;FMTTYPE=image/jpeg:https://fred-demers.com/wp-content/uploads/2014/10/Fred_piston.jpg
END:VEVENT
BEGIN:VEVENT
DTSTART;TZID=America/New_York:20170308T140000
DTEND;TZID=America/New_York:20170308T150000
DTSTAMP:20260424T034434
CREATED:20170207T163103Z
LAST-MODIFIED:20170207T163103Z
UID:6065-1488981600-1488985200@fred-demers.com
SUMMARY:Pierre et le loup - MC Notre-Dame-de-Grâce
DESCRIPTION:
URL:https://fred-demers.com/evenement/pierre-loup-notre-dame-de-grace-14h/
LOCATION:Centre culturel de Notre-Dame-de-Grâce
CATEGORIES:Jeunesse
ATTACH;FMTTYPE=image/jpeg:https://fred-demers.com/wp-content/uploads/2015/09/image_nouveau_concert.jpg
END:VEVENT
BEGIN:VEVENT
DTSTART;TZID=America/New_York:20170308T103000
DTEND;TZID=America/New_York:20170308T113000
DTSTAMP:20260424T034434
CREATED:20170207T162718Z
LAST-MODIFIED:20170207T162718Z
UID:6061-1488969000-1488972600@fred-demers.com
SUMMARY:Pierre et le loup - MC Notre-Dame-de-Grâce
DESCRIPTION:
URL:https://fred-demers.com/evenement/pierre-loup-notre-dame-de-grace/
LOCATION:Centre culturel de Notre-Dame-de-Grâce
CATEGORIES:Jeunesse
ATTACH;FMTTYPE=image/jpeg:https://fred-demers.com/wp-content/uploads/2015/09/image_nouveau_concert.jpg
END:VEVENT
BEGIN:VEVENT
DTSTART;TZID=America/New_York:20170307T133000
DTEND;TZID=America/New_York:20170307T143000
DTSTAMP:20260424T034434
CREATED:20160825T211453Z
LAST-MODIFIED:20160825T211453Z
UID:5980-1488893400-1488897000@fred-demers.com
SUMMARY:Les 7 trompettes de Fred Piston
DESCRIPTION:
URL:https://fred-demers.com/evenement/les-7-trompettes-de-fred-piston-lachine/
LOCATION:L’entrepot\, 2901 Boulevard St-Joseph\, Lachine
CATEGORIES:Jeunesse
ATTACH;FMTTYPE=image/jpeg:https://fred-demers.com/wp-content/uploads/2014/10/Fred_piston.jpg
END:VEVENT
BEGIN:VEVENT
DTSTART;TZID=America/New_York:20170306T110000
DTEND;TZID=America/New_York:20170306T110000
DTSTAMP:20260424T034434
CREATED:20160825T211301Z
LAST-MODIFIED:20160825T211301Z
UID:5977-1488798000-1488798000@fred-demers.com
SUMMARY:Les 7 trompettes de Fred Piston
DESCRIPTION:
URL:https://fred-demers.com/evenement/les-7-trompettes-de-fred-piston-anjou/
LOCATION:École secondaire Anjou\, 8205 Rue Fonteneau\, montreal
CATEGORIES:Jeunesse
ATTACH;FMTTYPE=image/jpeg:https://fred-demers.com/wp-content/uploads/2014/10/Fred_piston.jpg
END:VEVENT
BEGIN:VEVENT
DTSTART;TZID=America/New_York:20170305T110000
DTEND;TZID=America/New_York:20170305T120000
DTSTAMP:20260424T034434
CREATED:20170207T162614Z
LAST-MODIFIED:20170207T162614Z
UID:6058-1488711600-1488715200@fred-demers.com
SUMMARY:Pierre et le loup - Théâtre Outremont
DESCRIPTION:
URL:https://fred-demers.com/evenement/pierre-loup-theatre-outremont/
LOCATION:Théâtre Outremont\, Qc\, Canada
CATEGORIES:Jeunesse
ATTACH;FMTTYPE=image/jpeg:https://fred-demers.com/wp-content/uploads/2015/09/image_nouveau_concert.jpg
END:VEVENT
BEGIN:VEVENT
DTSTART;TZID=America/New_York:20170304T140000
DTEND;TZID=America/New_York:20170304T150000
DTSTAMP:20260424T034434
CREATED:20160825T211028Z
LAST-MODIFIED:20160825T211028Z
UID:5975-1488636000-1488639600@fred-demers.com
SUMMARY:Les 7 trompettes de Fred Piston
DESCRIPTION:
URL:https://fred-demers.com/evenement/les-7-trompettes-de-fred-piston-mc-mercier/
LOCATION:Maison de la culture Mercier\, 8105 Rue Hochelaga\, montreal\, Canada
CATEGORIES:Jeunesse
ATTACH;FMTTYPE=image/jpeg:https://fred-demers.com/wp-content/uploads/2014/10/Fred_piston.jpg
END:VEVENT
BEGIN:VEVENT
DTSTART;TZID=America/New_York:20170226T133000
DTEND;TZID=America/New_York:20170226T143000
DTSTAMP:20260424T034434
CREATED:20170207T170426Z
LAST-MODIFIED:20170207T170426Z
UID:6083-1488115800-1488119400@fred-demers.com
SUMMARY:Symphonies portuaires avec M6
DESCRIPTION:
URL:https://fred-demers.com/evenement/symphonies-portuaires-m6/
CATEGORIES:Jeunesse,Musique de chambre,Soliste
ATTACH;FMTTYPE=image/jpeg:https://fred-demers.com/wp-content/uploads/2017/02/symphonies-portuaires-pointe-a-calliere.jpg
END:VEVENT
BEGIN:VEVENT
DTSTART;TZID=America/New_York:20161127T110000
DTEND;TZID=America/New_York:20161127T120000
DTSTAMP:20260424T034434
CREATED:20160825T210459Z
LAST-MODIFIED:20160825T210459Z
UID:5970-1480244400-1480248000@fred-demers.com
SUMMARY:Les 7 trompettes de Fred Piston
DESCRIPTION:
URL:https://fred-demers.com/evenement/les-7-trompettes-de-fred-piston-cowansville/
LOCATION:Salle Pauline-Martel – Bibliothèque municipale de Cowansville\, 608\, rue du Sud\, cowansville
CATEGORIES:Jeunesse
ATTACH;FMTTYPE=image/jpeg:https://fred-demers.com/wp-content/uploads/2014/10/Fred_piston.jpg
END:VEVENT
BEGIN:VEVENT
DTSTART;TZID=America/New_York:20161120T140000
DTEND;TZID=America/New_York:20161120T150000
DTSTAMP:20260424T034434
CREATED:20160825T210039Z
LAST-MODIFIED:20160825T210039Z
UID:5969-1479650400-1479654000@fred-demers.com
SUMMARY:TNT – Trompette ‘N’ Tuba
DESCRIPTION:
URL:https://fred-demers.com/evenement/tnt-bourgie/
LOCATION:Musée des beaux-arts de Montréal\, 1380 Rue Sherbrooke O\, Montreal\, Québec\, H3G 1J5\, Canada
CATEGORIES:Jeunesse
ATTACH;FMTTYPE=image/jpeg:https://fred-demers.com/wp-content/uploads/2014/04/TNT_photo_Valerie_Mantha_duo.jpg
END:VEVENT
BEGIN:VEVENT
DTSTART;TZID=America/New_York:20161119T110000
DTEND;TZID=America/New_York:20161119T120000
DTSTAMP:20260424T034434
CREATED:20160825T205444Z
LAST-MODIFIED:20160825T205444Z
UID:5964-1479553200-1479556800@fred-demers.com
SUMMARY:TNT – Trompette ‘N’ Tuba
DESCRIPTION:
URL:https://fred-demers.com/evenement/tnt_rene-goupil/
LOCATION:centre éducatif René-Goupil\, 4105 47e Rue\, montreal\, quebec\, Canada
CATEGORIES:Jeunesse
ATTACH;FMTTYPE=image/jpeg:https://fred-demers.com/wp-content/uploads/2014/04/TNT_photo_Valerie_Mantha_duo.jpg
END:VEVENT
BEGIN:VEVENT
DTSTART;TZID=America/New_York:20161115T093000
DTEND;TZID=America/New_York:20161115T103000
DTSTAMP:20260424T034434
CREATED:20160825T205339Z
LAST-MODIFIED:20160825T205339Z
UID:5963-1479202200-1479205800@fred-demers.com
SUMMARY:Fred Piston symphonise avec 7 trompettes
DESCRIPTION:
URL:https://fred-demers.com/evenement/fred-piston-symphonise-avec-7-trompettes-osq4/
LOCATION:Grand Théâtre de Québec\, 269 Boulevard René-Lévesque E\, quebec\, quebec\, G1R 2B3\, Canada
CATEGORIES:Jeunesse
ATTACH;FMTTYPE=image/jpeg:https://fred-demers.com/wp-content/uploads/2014/01/Piston_enfants_latin.jpg
END:VEVENT
BEGIN:VEVENT
DTSTART;TZID=America/New_York:20161114T133000
DTEND;TZID=America/New_York:20161114T143000
DTSTAMP:20260424T034434
CREATED:20160825T205242Z
LAST-MODIFIED:20160825T205242Z
UID:5961-1479130200-1479133800@fred-demers.com
SUMMARY:Fred Piston symphonise avec 7 trompettes
DESCRIPTION:
URL:https://fred-demers.com/evenement/fred-piston-symphonise-avec-7-trompettes-osq3/
LOCATION:Grand Théâtre de Québec\, 269 Boulevard René-Lévesque E\, quebec\, quebec\, G1R 2B3\, Canada
CATEGORIES:Jeunesse
ATTACH;FMTTYPE=image/jpeg:https://fred-demers.com/wp-content/uploads/2014/01/Piston_enfants_latin.jpg
END:VEVENT
BEGIN:VEVENT
DTSTART;TZID=America/New_York:20161114T093000
DTEND;TZID=America/New_York:20161114T103000
DTSTAMP:20260424T034434
CREATED:20160825T205133Z
LAST-MODIFIED:20160825T205133Z
UID:5960-1479115800-1479119400@fred-demers.com
SUMMARY:Fred Piston symphonise avec 7 trompettes
DESCRIPTION:
URL:https://fred-demers.com/evenement/fred-piston-symphonise-avec-7-trompettes-osq2/
LOCATION:Grand Théâtre de Québec\, 269 Boulevard René-Lévesque E\, quebec\, quebec\, G1R 2B3\, Canada
CATEGORIES:Jeunesse
ATTACH;FMTTYPE=image/jpeg:https://fred-demers.com/wp-content/uploads/2014/01/Piston_enfants_latin.jpg
END:VEVENT
BEGIN:VEVENT
DTSTART;TZID=America/New_York:20161113T150000
DTEND;TZID=America/New_York:20161113T160000
DTSTAMP:20260424T034434
CREATED:20160825T204537Z
LAST-MODIFIED:20160825T204537Z
UID:5956-1479049200-1479052800@fred-demers.com
SUMMARY:Fred Piston symphonise avec 7 trompettes
DESCRIPTION:
URL:https://fred-demers.com/evenement/fred-piston-symphonise-avec-7-trompettes-osq/
LOCATION:Grand Théâtre de Québec\, 269 Boulevard René-Lévesque E\, quebec\, quebec\, G1R 2B3\, Canada
CATEGORIES:Jeunesse
ATTACH;FMTTYPE=image/jpeg:https://fred-demers.com/wp-content/uploads/2014/01/Piston_enfants_latin.jpg
END:VEVENT
BEGIN:VEVENT
DTSTART;TZID=America/New_York:20161002T143000
DTEND;TZID=America/New_York:20161002T153000
DTSTAMP:20260424T034434
CREATED:20160825T203734Z
LAST-MODIFIED:20160825T203734Z
UID:5953-1475418600-1475422200@fred-demers.com
SUMMARY:Les 7 trompettes de Fred Piston
DESCRIPTION:
URL:https://fred-demers.com/evenement/les-7-trompettes-de-fred-piston-magog/
LOCATION:Espace culturel de Magog\, 90 Rue Saint David\, magog\, Canada
CATEGORIES:Jeunesse
ATTACH;FMTTYPE=image/jpeg:https://fred-demers.com/wp-content/uploads/2014/10/Fred_piston.jpg
END:VEVENT
BEGIN:VEVENT
DTSTART;TZID=America/New_York:20160813T121500
DTEND;TZID=America/New_York:20160813T124500
DTSTAMP:20260424T034434
CREATED:20160524T183214Z
LAST-MODIFIED:20160524T183214Z
UID:5893-1471090500-1471092300@fred-demers.com
SUMMARY:La Virée classique de l'OSM avec le Trio Débonnaire
DESCRIPTION:
URL:https://fred-demers.com/evenement/la-viree-classique-de-losm-avec-le-trio-debonnaire/
LOCATION:SCÈNE STINGRAY BRAVA\, 1600 Rue Saint-Urbain\, Montéal\, québec\, Canada
CATEGORIES:Musique de chambre
ATTACH;FMTTYPE=image/jpeg:https://fred-demers.com/wp-content/uploads/2014/01/2016-Debonnaire-Myriam-Boucher2-scaled.jpeg
END:VEVENT
BEGIN:VEVENT
DTSTART;TZID=America/New_York:20160812T201500
DTEND;TZID=America/New_York:20160812T204500
DTSTAMP:20260424T034434
CREATED:20160524T185311Z
LAST-MODIFIED:20160524T185311Z
UID:5900-1471032900-1471034700@fred-demers.com
SUMMARY:La Virée classique de l'OSM avec le Trio Débonnaire
DESCRIPTION:
URL:https://fred-demers.com/evenement/la-viree-classique-de-losm-avec-le-trio-debonnaire-3/
LOCATION:SCÈNE STINGRAY BRAVA\, 1600 Rue Saint-Urbain\, Montéal\, québec\, Canada
CATEGORIES:Musique de chambre
ATTACH;FMTTYPE=image/jpeg:https://fred-demers.com/wp-content/uploads/2014/01/2016-Debonnaire-Myriam-Boucher2-scaled.jpeg
END:VEVENT
BEGIN:VEVENT
DTSTART;TZID=America/New_York:20160812T173000
DTEND;TZID=America/New_York:20160812T180000
DTSTAMP:20260424T034434
CREATED:20160524T184902Z
LAST-MODIFIED:20160524T184902Z
UID:5898-1471023000-1471024800@fred-demers.com
SUMMARY:La Virée classique de l'OSM avec le Trio Débonnaire
DESCRIPTION:
URL:https://fred-demers.com/evenement/la-viree-classique-de-losm-avec-le-trio-debonnaire-2/
LOCATION:SCÈNE STINGRAY BRAVA\, 1600 Rue Saint-Urbain\, Montéal\, québec\, Canada
CATEGORIES:Musique de chambre
ATTACH;FMTTYPE=image/jpeg:https://fred-demers.com/wp-content/uploads/2014/01/2016-Debonnaire-Myriam-Boucher2-scaled.jpeg
END:VEVENT
BEGIN:VEVENT
DTSTART;TZID=America/New_York:20160802T190000
DTEND;TZID=America/New_York:20160802T200000
DTSTAMP:20260424T034434
CREATED:20160621T182732Z
LAST-MODIFIED:20160621T182732Z
UID:5942-1470164400-1470168000@fred-demers.com
SUMMARY:TNT – Trompette ‘N’ Tuba
DESCRIPTION:
URL:https://fred-demers.com/evenement/tntrimouski-2/
LOCATION:Théâtre la Goélette\, 67 Rue du Rocher\, Rivière-du-Loup\, Québec\, Canada
CATEGORIES:Jeunesse
ATTACH;FMTTYPE=image/jpeg:https://fred-demers.com/wp-content/uploads/2014/04/TNT_photo_Valerie_Mantha_duo.jpg
END:VEVENT
END:VCALENDAR