BEGIN:VCALENDAR
VERSION:2.0
PRODID:-//Frédéric Demers - ECPv6.3.3//NONSGML v1.0//EN
CALSCALE:GREGORIAN
METHOD:PUBLISH
X-WR-CALNAME:Frédéric Demers
X-ORIGINAL-URL:https://fred-demers.com
X-WR-CALDESC:Events for Frédéric Demers
REFRESH-INTERVAL;VALUE=DURATION:PT1H
X-Robots-Tag:noindex
X-PUBLISHED-TTL:PT1H
BEGIN:VTIMEZONE
TZID:America/New_York
BEGIN:DAYLIGHT
TZOFFSETFROM:-0500
TZOFFSETTO:-0400
TZNAME:EDT
DTSTART:20190310T070000
END:DAYLIGHT
BEGIN:STANDARD
TZOFFSETFROM:-0400
TZOFFSETTO:-0500
TZNAME:EST
DTSTART:20191103T060000
END:STANDARD
BEGIN:DAYLIGHT
TZOFFSETFROM:-0500
TZOFFSETTO:-0400
TZNAME:EDT
DTSTART:20200308T070000
END:DAYLIGHT
BEGIN:STANDARD
TZOFFSETFROM:-0400
TZOFFSETTO:-0500
TZNAME:EST
DTSTART:20201101T060000
END:STANDARD
BEGIN:DAYLIGHT
TZOFFSETFROM:-0500
TZOFFSETTO:-0400
TZNAME:EDT
DTSTART:20210314T070000
END:DAYLIGHT
BEGIN:STANDARD
TZOFFSETFROM:-0400
TZOFFSETTO:-0500
TZNAME:EST
DTSTART:20211107T060000
END:STANDARD
END:VTIMEZONE
BEGIN:VEVENT
DTSTART;TZID=America/New_York:20210213T130000
DTEND;TZID=America/New_York:20210213T140000
DTSTAMP:20260423T185640
CREATED:20210707T113629Z
LAST-MODIFIED:20210707T113629Z
UID:8665-1613221200-1613224800@fred-demers.com
SUMMARY:FRED SOLO 100% virtuel Quai 5160 - MC Verdun
DESCRIPTION:
URL:https://fred-demers.com/evenement/fred-solo-100-virtuel-quai-5160-mc-verdun/
LOCATION:Maison de la culture de Verdun\, 5160 Boulevard LaSalle\, Verdun\, qc\, H4H 1N8\, Canada
CATEGORIES:Jeunesse
ATTACH;FMTTYPE=image/jpeg:https://fred-demers.com/wp-content/uploads/2020/11/Fredsolo_logoVIRTUEL_RGB.jpg
END:VEVENT
BEGIN:VEVENT
DTSTART;TZID=America/New_York:20210207T110000
DTEND;TZID=America/New_York:20210207T120000
DTSTAMP:20260423T185640
CREATED:20200526T135224Z
LAST-MODIFIED:20200526T135224Z
UID:8299-1612695600-1612699200@fred-demers.com
SUMMARY:FRED SOLO - Théâtre d'Outremont
DESCRIPTION:
URL:https://fred-demers.com/evenement/fred-solo-theatre-outremont/
LOCATION:Théâtre Outremont\, Qc\, Canada
CATEGORIES:Jeunesse
ATTACH;FMTTYPE=image/png:https://fred-demers.com/wp-content/uploads/2019/02/Fredsolo_logo_RGB.png
END:VEVENT
BEGIN:VEVENT
DTSTART;TZID=America/New_York:20201024T100000
DTEND;TZID=America/New_York:20201024T110000
DTSTAMP:20260423T185640
CREATED:20200526T135814Z
LAST-MODIFIED:20200526T135814Z
UID:8302-1603533600-1603537200@fred-demers.com
SUMMARY:FRED SOLO - Place des Citoyens
DESCRIPTION:
URL:https://fred-demers.com/evenement/fred-solo-place-des-citoyens/
LOCATION:Place des citoyens\, 999 Boulevard de Sainte-Adèle\, Sainte-Adèle\, qc\, J8B 2N4\, Canada
CATEGORIES:Jeunesse
ATTACH;FMTTYPE=image/png:https://fred-demers.com/wp-content/uploads/2019/02/Fredsolo_logo_RGB-2.png
END:VEVENT
BEGIN:VEVENT
DTSTART;TZID=America/New_York:20200328T190000
DTEND;TZID=America/New_York:20200328T200000
DTSTAMP:20260423T185640
CREATED:20190910T133328Z
LAST-MODIFIED:20190910T133328Z
UID:7862-1585422000-1585425600@fred-demers.com
SUMMARY:FRED SOLO - Maison de la culture Ahuntsic - ANNULÉ
DESCRIPTION:
URL:https://fred-demers.com/evenement/fred-solo-maison-de-la-culture-ahuntsic/
LOCATION:Maison de la culture Ahuntsic-Cartierville\, 10300 Rue Lajeunesse\, Montreal\, Quebec\, H3L 2E5\, Canada
CATEGORIES:Jeunesse
ATTACH;FMTTYPE=image/png:https://fred-demers.com/wp-content/uploads/2019/02/Fredsolo_logo_RGB.png
END:VEVENT
BEGIN:VEVENT
DTSTART;TZID=America/New_York:20200327T131500
DTEND;TZID=America/New_York:20200327T141500
DTSTAMP:20260423T185640
CREATED:20200205T021232Z
LAST-MODIFIED:20200205T021232Z
UID:8201-1585314900-1585318500@fred-demers.com
SUMMARY:FRED SOLO - Maison de la culture Ahuntsic - ouvert aux écoles - ANNULÉ
DESCRIPTION:
URL:https://fred-demers.com/evenement/fred-solo-maison-de-la-culture-ahuntsic-ouvert-aux-ecoles-2/
LOCATION:Maison de la culture Ahuntsic-Cartierville\, 10300 Rue Lajeunesse\, Montreal\, Quebec\, H3L 2E5\, Canada
CATEGORIES:Jeunesse
ATTACH;FMTTYPE=image/png:https://fred-demers.com/wp-content/uploads/2019/02/Fredsolo_logo_RGB.png
END:VEVENT
BEGIN:VEVENT
DTSTART;TZID=America/New_York:20200327T100000
DTEND;TZID=America/New_York:20200327T110000
DTSTAMP:20260423T185640
CREATED:20191104T152851Z
LAST-MODIFIED:20191104T152851Z
UID:8026-1585303200-1585306800@fred-demers.com
SUMMARY:FRED SOLO - Maison de la culture Ahuntsic - ouvert aux écoles - ANNULÉ
DESCRIPTION:
URL:https://fred-demers.com/evenement/fred-solo-maison-de-la-culture-ahuntsic-ouvert-aux-ecoles/
LOCATION:Maison de la culture Ahuntsic-Cartierville\, 10300 Rue Lajeunesse\, Montreal\, Quebec\, H3L 2E5\, Canada
CATEGORIES:Jeunesse
ATTACH;FMTTYPE=image/png:https://fred-demers.com/wp-content/uploads/2019/02/Fredsolo_logo_RGB.png
END:VEVENT
BEGIN:VEVENT
DTSTART;TZID=America/New_York:20200228T100000
DTEND;TZID=America/New_York:20200228T110000
DTSTAMP:20260423T185640
CREATED:20191008T193138Z
LAST-MODIFIED:20191008T193138Z
UID:7968-1582884000-1582887600@fred-demers.com
SUMMARY:FRED SOLO - Maison de la culture St-Laurent
DESCRIPTION:
URL:https://fred-demers.com/evenement/fred-solo-maison-de-la-culture-st-laurent3/
LOCATION:Maison de la culture St-Laurent\, 613 Avenue Sainte-Croix\, St-laurent\, qc\, H4L 5P5\, Canada
CATEGORIES:Jeunesse
ATTACH;FMTTYPE=image/png:https://fred-demers.com/wp-content/uploads/2019/02/Fredsolo_logo_RGB.png
END:VEVENT
BEGIN:VEVENT
DTSTART;TZID=America/New_York:20200227T131500
DTEND;TZID=America/New_York:20200227T141500
DTSTAMP:20260423T185640
CREATED:20191008T193032Z
LAST-MODIFIED:20191008T193032Z
UID:7966-1582809300-1582812900@fred-demers.com
SUMMARY:FRED SOLO - Maison de la culture St-Laurent
DESCRIPTION:
URL:https://fred-demers.com/evenement/fred-solo-maison-de-la-culture-st-laurent2/
LOCATION:Maison de la culture St-Laurent\, 613 Avenue Sainte-Croix\, St-laurent\, qc\, H4L 5P5\, Canada
CATEGORIES:Jeunesse
ATTACH;FMTTYPE=image/png:https://fred-demers.com/wp-content/uploads/2019/02/Fredsolo_logo_RGB.png
END:VEVENT
BEGIN:VEVENT
DTSTART;TZID=America/New_York:20200227T100000
DTEND;TZID=America/New_York:20200227T110000
DTSTAMP:20260423T185640
CREATED:20190820T153009Z
LAST-MODIFIED:20190820T153009Z
UID:7839-1582797600-1582801200@fred-demers.com
SUMMARY:FRED SOLO - Maison de la culture St-Laurent
DESCRIPTION:
URL:https://fred-demers.com/evenement/fred-solo-maison-de-la-culture-st-laurent/
LOCATION:Maison de la culture St-Laurent\, 613 Avenue Sainte-Croix\, St-laurent\, qc\, H4L 5P5\, Canada
CATEGORIES:Jeunesse
ATTACH;FMTTYPE=image/png:https://fred-demers.com/wp-content/uploads/2019/02/Fredsolo_logo_RGB.png
END:VEVENT
BEGIN:VEVENT
DTSTART;TZID=America/New_York:20200226T103000
DTEND;TZID=America/New_York:20200226T113000
DTSTAMP:20260423T185640
CREATED:20200204T143446Z
LAST-MODIFIED:20200204T143446Z
UID:8148-1582713000-1582716600@fred-demers.com
SUMMARY:FRED SOLO - École Pierre-Laporte
DESCRIPTION:
URL:https://fred-demers.com/evenement/fred-solo-ecole-pierre-laporte-2/
LOCATION:École Pierre-Laporte\, 1101 Chemin Rockland\, Mont-Royal\, Québec\, H3P 2X8\, Canada
CATEGORIES:Jeunesse
ATTACH;FMTTYPE=image/png:https://fred-demers.com/wp-content/uploads/2019/02/Fredsolo_logo_RGB.png
END:VEVENT
BEGIN:VEVENT
DTSTART;TZID=America/New_York:20200226T085500
DTEND;TZID=America/New_York:20200226T095500
DTSTAMP:20260423T185640
CREATED:20200204T143120Z
LAST-MODIFIED:20200204T143120Z
UID:8144-1582707300-1582710900@fred-demers.com
SUMMARY:FRED SOLO - École Pierre-Laporte
DESCRIPTION:
URL:https://fred-demers.com/evenement/fred-solo-ecole-pierre-laporte/
LOCATION:École Pierre-Laporte\, 1101 Chemin Rockland\, Mont-Royal\, Québec\, H3P 2X8\, Canada
CATEGORIES:Jeunesse
ATTACH;FMTTYPE=image/png:https://fred-demers.com/wp-content/uploads/2019/02/Fredsolo_logo_RGB.png
END:VEVENT
BEGIN:VEVENT
DTSTART;TZID=America/New_York:20200225T131500
DTEND;TZID=America/New_York:20200225T141500
DTSTAMP:20260423T185640
CREATED:20191104T154444Z
LAST-MODIFIED:20191104T154444Z
UID:8036-1582636500-1582640100@fred-demers.com
SUMMARY:FRED SOLO - École Jean-XXIII
DESCRIPTION:
URL:https://fred-demers.com/evenement/fred-solo-ecole-jean-xxiii/
LOCATION:École Jean-XXIII\, 1301 Avenue Dawson\, 1301 Avenue Dawson\, Dorval\, qc\, Canada
CATEGORIES:Jeunesse
ATTACH;FMTTYPE=image/png:https://fred-demers.com/wp-content/uploads/2019/02/Fredsolo_logo_RGB.png
END:VEVENT
BEGIN:VEVENT
DTSTART;TZID=America/New_York:20200223T140000
DTEND;TZID=America/New_York:20200223T150000
DTSTAMP:20260423T185640
CREATED:20190820T163819Z
LAST-MODIFIED:20190820T163819Z
UID:7849-1582466400-1582470000@fred-demers.com
SUMMARY:Trio Débonnaire - Prévost
DESCRIPTION:
URL:https://fred-demers.com/evenement/trio-debonnaire-prevost/
LOCATION:Centre culturel et communautaire de Prévost\, 794 Rue Maple\, Prévost\, QC\, J5L 2S2\, Canada
CATEGORIES:Musique de chambre
ATTACH;FMTTYPE=image/jpeg:https://fred-demers.com/wp-content/uploads/2014/01/2016-Debonnaire-Myriam-Boucher2-scaled.jpeg
END:VEVENT
BEGIN:VEVENT
DTSTART;TZID=America/New_York:20200222T150000
DTEND;TZID=America/New_York:20200222T160000
DTSTAMP:20260423T185640
CREATED:20191118T133616Z
LAST-MODIFIED:20191118T133616Z
UID:8106-1582383600-1582387200@fred-demers.com
SUMMARY:FRED SOLO - Maison de la culture Notre-Dame-de-Grâce
DESCRIPTION:
URL:https://fred-demers.com/evenement/fred-solo-maison-de-la-culture-notre-dame-de-grace/
LOCATION:Maison de la culture Notre-Dame-de-Grâce\, 3755\, rue Botrel\, Montreal\, Quebec\, Canada
CATEGORIES:Jeunesse
ATTACH;FMTTYPE=image/png:https://fred-demers.com/wp-content/uploads/2019/02/Fredsolo_logo_RGB.png
END:VEVENT
BEGIN:VEVENT
DTSTART;TZID=America/New_York:20200215T150000
DTEND;TZID=America/New_York:20200215T160000
DTSTAMP:20260423T185640
CREATED:20191104T153659Z
LAST-MODIFIED:20191104T153659Z
UID:8031-1581778800-1581782400@fred-demers.com
SUMMARY:FRED SOLO - Maison de la culture Janine Sutto
DESCRIPTION:
URL:https://fred-demers.com/evenement/fred-solo-maison-de-la-culture-janine-sutto/
LOCATION:Maison de la culture Janine Sutto\, 2550 rue Ontario Est\,\, Montreal\, Quebec\, Canada
CATEGORIES:Jeunesse
ATTACH;FMTTYPE=image/png:https://fred-demers.com/wp-content/uploads/2019/02/Fredsolo_logo_RGB.png
END:VEVENT
BEGIN:VEVENT
DTSTART;TZID=America/New_York:20200212T133000
DTEND;TZID=America/New_York:20200212T143000
DTSTAMP:20260423T185640
CREATED:20191111T181218Z
LAST-MODIFIED:20191111T181218Z
UID:8092-1581514200-1581517800@fred-demers.com
SUMMARY:FRED SOLO - Centre culturel du Berger
DESCRIPTION:
URL:https://fred-demers.com/evenement/fred-solo-centre-culturel-du-berger-3/
LOCATION:Centre culturel du Berger\, 85 Rue Sainte Anne\, Rivière-du-Loup\, Quebec\, G5R 5C2\, Canada
CATEGORIES:Jeunesse
ATTACH;FMTTYPE=image/png:https://fred-demers.com/wp-content/uploads/2019/02/Fredsolo_logo_RGB.png
END:VEVENT
BEGIN:VEVENT
DTSTART;TZID=America/New_York:20200212T093000
DTEND;TZID=America/New_York:20200212T103000
DTSTAMP:20260423T185640
CREATED:20191111T181315Z
LAST-MODIFIED:20191111T181315Z
UID:8095-1581499800-1581503400@fred-demers.com
SUMMARY:FRED SOLO - Centre culturel du Berger
DESCRIPTION:
URL:https://fred-demers.com/evenement/fred-solo-centre-culturel-du-berger-4/
LOCATION:Centre culturel du Berger\, 85 Rue Sainte Anne\, Rivière-du-Loup\, Quebec\, G5R 5C2\, Canada
CATEGORIES:Jeunesse
ATTACH;FMTTYPE=image/png:https://fred-demers.com/wp-content/uploads/2019/02/Fredsolo_logo_RGB.png
END:VEVENT
BEGIN:VEVENT
DTSTART;TZID=America/New_York:20200211T133000
DTEND;TZID=America/New_York:20200211T143000
DTSTAMP:20260423T185640
CREATED:20191111T181136Z
LAST-MODIFIED:20191111T181136Z
UID:8090-1581427800-1581431400@fred-demers.com
SUMMARY:FRED SOLO - Centre culturel du Berger
DESCRIPTION:
URL:https://fred-demers.com/evenement/fred-solo-centre-culturel-du-berger-2/
LOCATION:Centre culturel du Berger\, 85 Rue Sainte Anne\, Rivière-du-Loup\, Quebec\, G5R 5C2\, Canada
CATEGORIES:Jeunesse
ATTACH;FMTTYPE=image/png:https://fred-demers.com/wp-content/uploads/2019/02/Fredsolo_logo_RGB.png
END:VEVENT
BEGIN:VEVENT
DTSTART;TZID=America/New_York:20200211T093000
DTEND;TZID=America/New_York:20200211T103000
DTSTAMP:20260423T185640
CREATED:20191111T180654Z
LAST-MODIFIED:20191111T180654Z
UID:8086-1581413400-1581417000@fred-demers.com
SUMMARY:FRED SOLO - Centre culturel du Berger
DESCRIPTION:
URL:https://fred-demers.com/evenement/fred-solo-centre-culturel-du-berger/
LOCATION:Centre culturel du Berger\, 85 Rue Sainte Anne\, Rivière-du-Loup\, Quebec\, G5R 5C2\, Canada
CATEGORIES:Jeunesse
ATTACH;FMTTYPE=image/png:https://fred-demers.com/wp-content/uploads/2019/02/Fredsolo_logo_RGB.png
END:VEVENT
BEGIN:VEVENT
DTSTART;TZID=America/New_York:20200210T133000
DTEND;TZID=America/New_York:20200210T143000
DTSTAMP:20260423T185640
CREATED:20200122T214009Z
LAST-MODIFIED:20200122T214009Z
UID:8129-1581341400-1581345000@fred-demers.com
SUMMARY:FRED SOLO - Centre culturel du Berger
DESCRIPTION:
URL:https://fred-demers.com/evenement/fred-solo-centre-culturel-du-berger-10-fevrier/
LOCATION:Centre culturel du Berger\, 85 Rue Sainte Anne\, Rivière-du-Loup\, Quebec\, G5R 5C2\, Canada
CATEGORIES:Jeunesse
ATTACH;FMTTYPE=image/png:https://fred-demers.com/wp-content/uploads/2019/02/Fredsolo_logo_RGB.png
END:VEVENT
BEGIN:VEVENT
DTSTART;TZID=America/New_York:20200126T140000
DTEND;TZID=America/New_York:20200126T150000
DTSTAMP:20260423T185640
CREATED:20190820T152006Z
LAST-MODIFIED:20190820T152006Z
UID:7834-1580047200-1580050800@fred-demers.com
SUMMARY:FRED SOLO - Centre communautaire de Waterville - version réduite
DESCRIPTION:
URL:https://fred-demers.com/evenement/fred-solo-centre-communautaire-de-waterville/
LOCATION:Centre culturel et communautaire de Waterville\, 660 rue du Couvent\, Waterville\, qc\, J0B 3H0\, Canada
CATEGORIES:Jeunesse
ATTACH;FMTTYPE=image/png:https://fred-demers.com/wp-content/uploads/2019/02/Fredsolo_logo_RGB.png
END:VEVENT
BEGIN:VEVENT
DTSTART;TZID=America/New_York:20200126T100000
DTEND;TZID=America/New_York:20200126T110000
DTSTAMP:20260423T185640
CREATED:20190820T152006Z
LAST-MODIFIED:20190820T152006Z
UID:7833-1580032800-1580036400@fred-demers.com
SUMMARY:FRED SOLO - Pavillon des arts de Coaticook - version réduite
DESCRIPTION:
URL:https://fred-demers.com/evenement/fred-solo-pavillon-des-arts-de-coaticook/
LOCATION:Pavillon des arts de Coaticook\, 116 Rue Wellington\, Coaticook\, qc\, J1A 2H7\, Canada
CATEGORIES:Jeunesse
ATTACH;FMTTYPE=image/png:https://fred-demers.com/wp-content/uploads/2019/02/Fredsolo_logo_RGB.png
END:VEVENT
BEGIN:VEVENT
DTSTART;TZID=America/New_York:20200125T100000
DTEND;TZID=America/New_York:20200125T110000
DTSTAMP:20260423T185640
CREATED:20190820T142554Z
LAST-MODIFIED:20190820T142554Z
UID:7809-1579946400-1579950000@fred-demers.com
SUMMARY:FRED SOLO - Musée des beaux arts de Sherbrooke - version réduite
DESCRIPTION:
URL:https://fred-demers.com/evenement/fred-solo-musee-des-beaux-arts-de-sherbrooke/
LOCATION:Musée des beaux arts de Sherbrooke\, 241 rue Dufferin\, Sherbrooke\, qc\, J1H 4M3\, Canada
CATEGORIES:Jeunesse
ATTACH;FMTTYPE=image/png:https://fred-demers.com/wp-content/uploads/2019/02/Fredsolo_logo_RGB.png
END:VEVENT
BEGIN:VEVENT
DTSTART;TZID=America/New_York:20200108T140000
DTEND;TZID=America/New_York:20200108T150000
DTSTAMP:20260423T185640
CREATED:20191118T134303Z
LAST-MODIFIED:20191118T134303Z
UID:8116-1578492000-1578495600@fred-demers.com
SUMMARY:FRED SOLO - Salle Télébec de Val-d'Or
DESCRIPTION:
URL:https://fred-demers.com/evenement/fred-solo-salle-telebec-val-dor-4/
LOCATION:Salle Télébec\, 125 Rue Self\, Val-d'Or\, Quebec\, J9P 3N2\, Canada
CATEGORIES:Jeunesse
ATTACH;FMTTYPE=image/png:https://fred-demers.com/wp-content/uploads/2019/02/Fredsolo_logo_RGB.png
END:VEVENT
BEGIN:VEVENT
DTSTART;TZID=America/New_York:20200108T100000
DTEND;TZID=America/New_York:20200108T110000
DTSTAMP:20260423T185640
CREATED:20191118T134154Z
LAST-MODIFIED:20191118T134154Z
UID:8114-1578477600-1578481200@fred-demers.com
SUMMARY:FRED SOLO - Salle Télébec de Val-d'Or
DESCRIPTION:
URL:https://fred-demers.com/evenement/fred-solo-salle-telebec-val-dor-3/
LOCATION:Salle Télébec\, 125 Rue Self\, Val-d'Or\, Quebec\, J9P 3N2\, Canada
CATEGORIES:Jeunesse
ATTACH;FMTTYPE=image/png:https://fred-demers.com/wp-content/uploads/2019/02/Fredsolo_logo_RGB.png
END:VEVENT
BEGIN:VEVENT
DTSTART;TZID=America/New_York:20200107T140000
DTEND;TZID=America/New_York:20200107T150000
DTSTAMP:20260423T185640
CREATED:20191118T134110Z
LAST-MODIFIED:20191118T134110Z
UID:8112-1578405600-1578409200@fred-demers.com
SUMMARY:FRED SOLO - Salle Télébec de Val-d'Or
DESCRIPTION:
URL:https://fred-demers.com/evenement/fred-solo-salle-telebec-val-dor-2/
LOCATION:Salle Télébec\, 125 Rue Self\, Val-d'Or\, Quebec\, J9P 3N2\, Canada
CATEGORIES:Jeunesse
ATTACH;FMTTYPE=image/png:https://fred-demers.com/wp-content/uploads/2019/02/Fredsolo_logo_RGB.png
END:VEVENT
BEGIN:VEVENT
DTSTART;TZID=America/New_York:20200107T100000
DTEND;TZID=America/New_York:20200107T110000
DTSTAMP:20260423T185640
CREATED:20191118T133828Z
LAST-MODIFIED:20191118T133828Z
UID:8108-1578391200-1578394800@fred-demers.com
SUMMARY:FRED SOLO - Salle Télébec de Val-d'Or
DESCRIPTION:
URL:https://fred-demers.com/evenement/fred-solo-salle-telebec-val-dor/
LOCATION:Salle Télébec\, 125 Rue Self\, Val-d'Or\, Quebec\, J9P 3N2\, Canada
CATEGORIES:Jeunesse
ATTACH;FMTTYPE=image/png:https://fred-demers.com/wp-content/uploads/2019/02/Fredsolo_logo_RGB.png
END:VEVENT
BEGIN:VEVENT
DTSTART;TZID=America/New_York:20191207T150000
DTEND;TZID=America/New_York:20191207T160000
DTSTAMP:20260423T185640
CREATED:20190820T150819Z
LAST-MODIFIED:20190820T150819Z
UID:7826-1575730800-1575734400@fred-demers.com
SUMMARY:FRED SOLO - Maison de la culture Côte-des-Neiges
DESCRIPTION:
URL:https://fred-demers.com/evenement/fred-solo-maison-de-la-culture-cote-des-neiges/
LOCATION:Maison de la culture Côte-des-Neiges\, 5290 Chemin de la Côte-des-Neiges\, Montreal\, Québec\, H3T 1Y3\, Canada
CATEGORIES:Jeunesse
ATTACH;FMTTYPE=image/png:https://fred-demers.com/wp-content/uploads/2019/02/Fredsolo_logo_RGB.png
END:VEVENT
BEGIN:VEVENT
DTSTART;TZID=America/New_York:20191129T190000
DTEND;TZID=America/New_York:20191129T200000
DTSTAMP:20260423T185640
CREATED:20190820T150231Z
LAST-MODIFIED:20190820T150231Z
UID:7821-1575054000-1575057600@fred-demers.com
SUMMARY:TNT – Trompette ‘N’ Tuba - Pierrefonds-Roxboro
DESCRIPTION:
URL:https://fred-demers.com/evenement/tnt-pierrefonds-roxboro/
LOCATION:Centre communautaire Gerry-Robertson\, 9665\, boulevard Gouin Ouest\, montréal\, Qc\, H8Y 1R4\, Canada
CATEGORIES:Jeunesse
ATTACH;FMTTYPE=image/jpeg:https://fred-demers.com/wp-content/uploads/2014/04/TNT_photo_Valerie_Mantha_duo.jpg
END:VEVENT
BEGIN:VEVENT
DTSTART;TZID=America/New_York:20191125T080000
DTEND;TZID=America/New_York:20200117T160000
DTSTAMP:20260423T185640
CREATED:20191111T182120Z
LAST-MODIFIED:20191111T182120Z
UID:8100-1574668800-1579276800@fred-demers.com
SUMMARY:TNT – Trompette ‘N’ Tuba - tournée des Bois-Francs
DESCRIPTION:27 représentions dans les écoles
URL:https://fred-demers.com/evenement/tnt-tournee-des-bois-francs/
LOCATION:Bois-Francs\, Victoriaville\, Canada
CATEGORIES:Jeunesse
ATTACH;FMTTYPE=image/jpeg:https://fred-demers.com/wp-content/uploads/2014/04/TNT_photo_Valerie_Mantha_duo.jpg
END:VEVENT
END:VCALENDAR