BEGIN:VCALENDAR
VERSION:2.0
PRODID:-//Frédéric Demers - ECPv6.3.3//NONSGML v1.0//EN
CALSCALE:GREGORIAN
METHOD:PUBLISH
X-ORIGINAL-URL:https://fred-demers.com
X-WR-CALDESC:Events for Frédéric Demers
REFRESH-INTERVAL;VALUE=DURATION:PT1H
X-Robots-Tag:noindex
X-PUBLISHED-TTL:PT1H
BEGIN:VTIMEZONE
TZID:America/New_York
BEGIN:DAYLIGHT
TZOFFSETFROM:-0500
TZOFFSETTO:-0400
TZNAME:EDT
DTSTART:20250309T070000
END:DAYLIGHT
BEGIN:STANDARD
TZOFFSETFROM:-0400
TZOFFSETTO:-0500
TZNAME:EST
DTSTART:20251102T060000
END:STANDARD
END:VTIMEZONE
BEGIN:VEVENT
DTSTART;TZID=America/New_York:20251129T140000
DTEND;TZID=America/New_York:20251129T150000
DTSTAMP:20260423T093129
CREATED:20250423T174415Z
LAST-MODIFIED:20250516T182806Z
UID:10939-1764424800-1764428400@fred-demers.com
SUMMARY:FRED SOLO - Centre Macel-Dulude
DESCRIPTION:
URL:https://fred-demers.com/evenement/fred-solo-centre-macel-dulude/
LOCATION:Centre Macel-Dulude\, 530 Bd Clairevue O\, \, Saint-Bruno-de-Montarville\,\, Qc\, J3V 6B3\, Canada
CATEGORIES:Jeunesse
ATTACH;FMTTYPE=image/png:https://fred-demers.com/wp-content/uploads/2019/02/Fredsolo_logo_RGB.png
END:VEVENT
END:VCALENDAR